Workbook

Sheet CUADRO ECONOMICO
B2: PROPUESTA ECONÓMICA
B3: CONVOCATORIA PÚBLICA No. 13 DE 2020
B5: OBJETO: SUMINISTRO DE MEDICAMENTOS DE GRUPOS EN GENERAL PARA LA E.S.E. HOSPITAL UNIVERSITARIO DE LA SAMARITANA
B7: SOLICITUD No. FB000020200062
B9: DATOS DEL HOSPITAL | J9: DATOS DEL PROPONENTE
B10: ÍTEM | C10: GRUPO | D10: CÓDIGO INSTITUCIONAL | E10: CÓDIGO UNSPSC | F10: DESCRIPCIÓN DEL PRODUCTO | G10: CANTIDAD BOGOTÁ | H10: CANTIDAD HOSPITAL REGIONAL DE ZIPAQUIRÁ | I10: TOTAL CANTIDAD REQUERIDA | J10: VALOR UNITARIO SIN IVA | K10: VALOR IVA | L10: VALOR UNITARIO IVA INCLUIDO | M10: VALOR TOTAL BOGOTÁ | N10: VALOR TOTAL HOSPITAL REGIONAL DE ZIPAQUIRÁ | O10: VALOR TOTAL IVA INCLUIDO (BOGOTA+REGIONAL) | P10: MARCA Y/O REFERENCIA | Q10: DETALLES (SI LOS REQUIERE)
B11: 1 | C11: ANTIINFECCIOSOS DE USO SISTEMICO | D11: J01GA020701 | E11: 51101586 | F11: AMIKACINA 100mg SOL INYECTABLE AMPOL 2ml | G11: 22 | H11: 20 | I11: =+G11+H11 -> 42 | K11: =+J11*0.19 -> 0 | L11: =+K11+J11 -> 0 | M11: =+L11*G11 -> 0 | N11: =+L11*H11 -> 0 | O11: =+L11*I11 -> 0
B12: 2 | C12: ANTIINFECCIOSOS DE USO SISTEMICO | D12: J01GA020702 | E12: 51101586 | F12: AMIKACINA 500mg SLN INY AMPOLLA 2ml | G12: 252 | H12: 111 | I12: =+G12+H12 -> 363 | K12: =+J12*0.19 -> 0 | L12: =+K12+J12 -> 0 | M12: =+L12*G12 -> 0 | N12: =+L12*H12 -> 0 | O12: =+L12*I12 -> 0
B13: 3 | C13: ANTIINFECCIOSOS DE USO SISTEMICO | D13: J01CA026721 | E13: 51101567 | F13: AMPICILINA 500mg POLVO RECONSTI VIAL 5ml | G13: 721 | H13: 431 | I13: =+G13+H13 -> 1152 | K13: =+J13*0.19 -> 0 | L13: =+K13+J13 -> 0 | M13: =+L13*G13 -> 0 | N13: =+L13*H13 -> 0 | O13: =+L13*I13 -> 0
B14: 4 | C14: ANTIINFECCIOSOS DE USO SISTEMICO | D14: J01CA028721 | E14: 51101567 | F14: AMPICILINA/SULBACTAM 1g/0,5g P RECONS 4ml | G14: 8833 | H14: 8375 | I14: =+G14+H14 -> 17208 | K14: =+J14*0.19 -> 0 | L14: =+K14+J14 -> 0 | M14: =+L14*G14 -> 0 | N14: =+L14*H14 -> 0 | O14: =+L14*I14 -> 0
B15: 5 | C15: ANTIINFECCIOSOS DE USO SISTEMICO | D15: J02AA029721 | E15: 51101801 | F15: ANFOTERICINA B 50mg LIOFILIZADO VIAL | G15: 37 | H15: 10 | I15: =+G15+H15 -> 47 | K15: =+J15*0.19 -> 0 | L15: =+K15+J15 -> 0 | M15: =+L15*G15 -> 0 | N15: =+L15*H15 -> 0 | O15: =+L15*I15 -> 0
B16: 6 | C16: ANTIINFECCIOSOS DE USO SISTEMICO | D16: J02AA012231 | E16: 51101801 | F16: ANFOTERICINA B LIPOSOMAL 50mg VIAL10ml | G16: 60 | H16: 0 | I16: =+G16+H16 -> 60 | K16: =+J16*0.19 -> 0 | L16: =+K16+J16 -> 0 | M16: =+L16*G16 -> 0 | N16: =+L16*H16 -> 0 | O16: =+L16*I16 -> 0
B17: 7 | C17: ANTIINFECCIOSOS DE USO SISTEMICO | D17: J02AX061452. | E17: 51101815 | F17: ANIDULAFUNGINA 100mg P.RECONS VIAL 30ml | G17: 1 | H17: 0 | I17: =+G17+H17 -> 1 | K17: =+J17*0.19 -> 0 | L17: =+K17+J17 -> 0 | M17: =+L17*G17 -> 0 | N17: =+L17*H17 -> 0 | O17: =+L17*I17 -> 0
B18: 8 | C18: ANTIINFECCIOSOS DE USO SISTEMICO | D18: J01DA035722 | E18: 51101555 | F18: AZTREONAM 1g P.RECONS VIAL | G18: 151 | H18: 0 | I18: =+G18+H18 -> 151 | K18: =+J18*0.19 -> 0 | L18: =+K18+J18 -> 0 | M18: =+L18*G18 -> 0 | N18: =+L18*H18 -> 0 | O18: =+L18*I18 -> 0
B19: 9 | C19: ANTIINFECCIOSOS DE USO SISTEMICO | D19: J02AC047701 | E19: 51101835 | F19: CASPOFUNGINA 50mg P.RECONS VIAL 10ml | G19: 38 | H19: 11 | I19: =+G19+H19 -> 49 | K19: =+J19*0.19 -> 0 | L19: =+K19+J19 -> 0 | M19: =+L19*G19 -> 0 | N19: =+L19*H19 -> 0 | O19: =+L19*I19 -> 0
B20: 10 | C20: ANTIINFECCIOSOS DE USO SISTEMICO | D20: J01DC043723 | E20: 51101576 | F20: CEFALOTINA 1g P.RECONS VIAL | G20: 1295 | H20: 415 | I20: =+G20+H20 -> 1710 | K20: =+J20*0.19 -> 0 | L20: =+K20+J20 -> 0 | M20: =+L20*G20 -> 0 | N20: =+L20*H20 -> 0 | O20: =+L20*I20 -> 0
B21: 11 | C21: ANTIINFECCIOSOS DE USO SISTEMICO | D21: J01DC044723 | E21: 51101578 | F21: CEFAZOLINA 1g P.RECONS VIAL 5ml | G21: 7197 | H21: 1738 | I21: =+G21+H21 -> 8935 | K21: =+J21*0.19 -> 0 | L21: =+K21+J21 -> 0 | M21: =+L21*G21 -> 0 | N21: =+L21*H21 -> 0 | O21: =+L21*I21 -> 0
B22: 12 | C22: ANTIINFECCIOSOS DE USO SISTEMICO | D22: J01DC046724 | E22: 51101594 | F22: CEFEPIMA 1g P.RECONS VIAL 5ml | G22: 2271 | H22: 521 | I22: =+G22+H22 -> 2792 | K22: =+J22*0.19 -> 0 | L22: =+K22+J22 -> 0 | M22: =+L22*G22 -> 0 | N22: =+L22*H22 -> 0 | O22: =+L22*I22 -> 0
... B166: 156 | C166: TRACTO ALIMENTARIO Y METABOLISMO | D166: J01CA026777 | E166: 51102707 | F166: TIGECICLINA 50mg P. RECONS VIAL 5ml | G166: 44 | H166: 0 | I166: =+G166+H166 -> 44 | K166: =+J166*0.19 -> 0 | L166: =+K166+J166 -> 0 | M166: =+L166*G166 -> 0 | N166: =+L166*H166 -> 0 | O166: =+L166*I166 -> 0
K167: VALOR TOTAL COTIZACIÓN | M167: =SUM(M11:M166) -> 0 | N167: =SUM(N11:N166) -> 0 | O167: =SUM(O11:O166) -> 0
B169: NOTA: Los interesados en participar de la presente Convocatoria Pública, deberán presentar dentro de su propuesta mínimo el 50% de los ítems requeridos en el presente Anexo, es decir, deberán ofertar como mínimo 78 ítems de los 156 requeridos. Si no se da cumplimiento a esta condición, se dará aplicación a lo contemplado en el Numeral 3.6 CAUSALES DE RECHAZO DE PROPUESTAS, literal s) Cuando en la propuesta no se oferte como mínimo el 50% de los ítems requeridos (la propuesta debe presentar como mínimo 78 ítems de los 156 requeridos)
J175: FIRMA REPRESENTANTE LEGAL
J177: NOMBRE DEL REPRESENTANTE LEGAL:______________________________________________________________________________________________________
J179: DOCUMENTO DE IDENTIDAD No.:____________________________________________________________________________________________________________
A182: LEER LAS INSTRUCCIONES RELACIONADAS A CONTINUACIÓN
A183: NOTA: SE REQUIERE QUE SU PROPUESTA ECONÓMICA INCLUYA COMO MINIMO LOS CAMPOS ESTABLECIDOS EN EL CUADRO ECONÓMICO
A184: NOTA: LA PROPUESTA ECONÓMICA DEBE VENIR DEBIDAMENTE PRESENTADA EN HOJA MEMBRETE CON LOS DATOS DEL PROPONENTE
A185: NOTA: SI EL PRODUCTO O SERVICIO NO SE ENCUENTRA GRABADO CON IVA, REFLEJARLO EN LA CASILLA DEL IVA (K) CON VALOR CERO ($ 0), TODA VEZ QUE SE ENCUENTRA FORMULADO
A186: NOTA: LA PROPUESTA ECONÓMICA DEBE ESTAR FIRMADA POR EL REPRESENTANTE LEGAL
A187: NOTA: ESTAS INSTRUCCIONES NO SE ENCUENTRAN BLOQUEADAS, POR LO TANTO ELIMINARLAS AL MOMENTO DE ELABORAR LA PROPUESTA

Sheet Hoja1
A1: J01GA020701 | B1: AMIKACINA 100mg SOL INYECTABLE AMPOL 2ml | C1: 51101586 | D1: ANTIINFECCIOSOS DE USO SISTEMICO | E1: N/A | F1: 22 | G1: 20 | H1: 42 | I1: =+H1='CUADRO ECONOMICO'!I11 -> TRUE
A2: J01GA020702 | B2: AMIKACINA 500mg SLN INY AMPOLLA 2ml | C2: 51101586 | D2: ANTIINFECCIOSOS DE USO SISTEMICO | E2: N/A | F2: 252 | G2: 111 | H2: 363 | I2: =+H2='CUADRO ECONOMICO'!I12 -> TRUE
A3: J01CA026721 | B3: AMPICILINA 500mg POLVO RECONSTI VIAL 5ml | C3: 51101567 | D3: ANTIINFECCIOSOS DE USO SISTEMICO | E3: N/A | F3: 721 | G3: 431 | H3: 1152 | I3: =+H3='CUADRO ECONOMICO'!I13 -> TRUE
A4: J01CA028721 | B4: AMPICILINA/SULBACTAM 1g/0,5g P RECONS 4ml | C4: 51101567 | D4: ANTIINFECCIOSOS DE USO SISTEMICO | E4: N/A | F4: 8833 | G4: 8375 | H4: 17208 | I4: =+H4='CUADRO ECONOMICO'!I14 -> TRUE
A5: J02AA029721 | B5: ANFOTERICINA B 50mg LIOFILIZADO VIAL | C5: 51101801 | D5: ANTIINFECCIOSOS DE USO SISTEMICO | E5: N/A | F5: 37 | G5: 10 | H5: 47 | I5: =+H5='CUADRO ECONOMICO'!I15 -> TRUE
A6: J02AA012231 | B6: ANFOTERICINA B LIPOSOMAL 50mg VIAL10ml | C6: 51101801 | D6: ANTIINFECCIOSOS DE USO SISTEMICO | E6: N/A | F6: 60 | G6: 0 | H6: 60 | I6: =+H6='CUADRO ECONOMICO'!I16 -> TRUE
A7: J02AX061452. | B7: ANIDULAFUNGINA 100mg P.RECONS VIAL 30ml | C7: 51101815 | D7: ANTIINFECCIOSOS DE USO SISTEMICO | E7: N/A | F7: 1 | G7: 0 | H7: 1 | I7: =+H7='CUADRO ECONOMICO'!I17 -> TRUE
A8: J01DA035722 | B8: AZTREONAM 1g P.RECONS VIAL | C8: 51101555 | D8: ANTIINFECCIOSOS DE USO SISTEMICO | E8: N/A | F8: 151 | G8: 0 | H8: 151 | I8: =+H8='CUADRO ECONOMICO'!I18 -> TRUE
A9: J02AC047701 | B9: CASPOFUNGINA 50mg P.RECONS VIAL 10ml | C9: 51101835 | D9: ANTIINFECCIOSOS DE USO SISTEMICO | E9: N/A | F9: 38 | G9: 11 | H9: 49 | I9: =+H9='CUADRO ECONOMICO'!I19 -> TRUE
A10: J01DC043723 | B10: CEFALOTINA 1g P.RECONS VIAL | C10: 51101576 | D10: ANTIINFECCIOSOS DE USO SISTEMICO | E10: N/A | F10: 1295 | G10: 415 | H10: 1710 | I10: =+H10='CUADRO ECONOMICO'!I20 -> TRUE
A11: J01DC044723 | B11: CEFAZOLINA 1g P.RECONS VIAL 5ml | C11: 51101578 | D11: ANTIINFECCIOSOS DE USO SISTEMICO | E11: N/A | F11: 7197 | G11: 1738 | H11: 8935 | I11: =+H11='CUADRO ECONOMICO'!I21 -> TRUE
A12: J01DC046724 | B12: CEFEPIMA 1g P.RECONS VIAL 5ml | C12: 51101594 | D12: ANTIINFECCIOSOS DE USO SISTEMICO | E12: N/A | F12: 2271 | G12: 521 | H12: 2792 | I12: =+H12='CUADRO ECONOMICO'!I22 -> TRUE
... A156: J01CA026777 | B156: TIGECICLINA 50mg P. RECONS VIAL 5ml | C156: 51102707 | D156: TRACTO ALIMENTARIO Y METABOLISMO | E156: N/A | F156: 44 | G156: 0 | H156: 44 | I156: =+H156='CUADRO ECONOMICO'!I166 -> TRUE
